BEGIN:VCALENDAR
VERSION:2.0
PRODID:-//CHAMP-NM - ECPv6.15.17.1//NONSGML v1.0//EN
CALSCALE:GREGORIAN
METHOD:PUBLISH
X-WR-CALNAME:CHAMP-NM
X-ORIGINAL-URL:https://www.champ-nm.com
X-WR-CALDESC:Events for CHAMP-NM
REFRESH-INTERVAL;VALUE=DURATION:PT1H
X-Robots-Tag:noindex
X-PUBLISHED-TTL:PT1H
BEGIN:VTIMEZONE
TZID:America/Denver
BEGIN:DAYLIGHT
TZOFFSETFROM:-0700
TZOFFSETTO:-0600
TZNAME:MDT
DTSTART:20220313T090000
END:DAYLIGHT
BEGIN:STANDARD
TZOFFSETFROM:-0600
TZOFFSETTO:-0700
TZNAME:MST
DTSTART:20221106T080000
END:STANDARD
BEGIN:DAYLIGHT
TZOFFSETFROM:-0700
TZOFFSETTO:-0600
TZNAME:MDT
DTSTART:20230312T090000
END:DAYLIGHT
BEGIN:STANDARD
TZOFFSETFROM:-0600
TZOFFSETTO:-0700
TZNAME:MST
DTSTART:20231105T080000
END:STANDARD
BEGIN:DAYLIGHT
TZOFFSETFROM:-0700
TZOFFSETTO:-0600
TZNAME:MDT
DTSTART:20240310T090000
END:DAYLIGHT
BEGIN:STANDARD
TZOFFSETFROM:-0600
TZOFFSETTO:-0700
TZNAME:MST
DTSTART:20241103T080000
END:STANDARD
END:VTIMEZONE
BEGIN:VEVENT
DTSTART;TZID=America/Denver:20230704T090000
DTEND;TZID=America/Denver:20230704T110000
DTSTAMP:20260422T191301
CREATED:20230629T151853Z
LAST-MODIFIED:20230702T204142Z
UID:6534-1688461200-1688468400@www.champ-nm.com
SUMMARY:Corrales 4th of July Parade!
DESCRIPTION:Join us to celebrate America!   \nThe 4th of July Parade this Tuesday. If you would like to be a part of the parade here are the particulars:\n1.  You can go to the Village website at corrales-nm.org\, click on the Parks and Recreations tab and then to registration. They will have waivers at the staging area\, but it will relieve chaos if you can get this done beforehand.\n \n2. Staging for equestrians is on the south side of the elementary school (200 Target rd.) accessed off Corrales rd. just south of Target rd. Staging will begin at 9:00 a.m. and end at 9:45 a.m. The parade starts at 10 a.m.\n \n3. Please they ask that there be no trailers at the school. You can park at Top Form Arena and ride to the school or drop off your equestrians with a guardian while you take the trailer to the arena.\n \n4. The equestrians will be the first group out just behind the Color guard and fire truck with the Mayor and Parade Master.\n \n5. The Village asks that those under 18 wear a helmet and everyone wear appropriate closed toe shoes. If your equestrian acts up and does not maintain a respectable demeanor the village asks that you remove yourself from the parade route and walk your equestrian to safety.\n \n6. The parade finishes at Top Form arena where there will be a food truck.\nThe Corrales Library will have a fundraiser BBQ at La Entrada Park.\n \nIf you are unable to be in the parade\, please come out and watch or give a helping hand.\n \nHave a happy and safe 4th of July!\n \nCHAMP\n \nFill out your waiver ahead of time! Register Here!
URL:https://www.champ-nm.com/event/corrales-4th-of-july-parade/
END:VEVENT
END:VCALENDAR