BEGIN:VCALENDAR
VERSION:2.0
PRODID:-//CHAMP-NM - ECPv6.15.17.1//NONSGML v1.0//EN
CALSCALE:GREGORIAN
METHOD:PUBLISH
X-WR-CALNAME:CHAMP-NM
X-ORIGINAL-URL:https://www.champ-nm.com
X-WR-CALDESC:Events for CHAMP-NM
REFRESH-INTERVAL;VALUE=DURATION:PT1H
X-Robots-Tag:noindex
X-PUBLISHED-TTL:PT1H
BEGIN:VTIMEZONE
TZID:America/Denver
BEGIN:DAYLIGHT
TZOFFSETFROM:-0700
TZOFFSETTO:-0600
TZNAME:MDT
DTSTART:20220313T090000
END:DAYLIGHT
BEGIN:STANDARD
TZOFFSETFROM:-0600
TZOFFSETTO:-0700
TZNAME:MST
DTSTART:20221106T080000
END:STANDARD
BEGIN:DAYLIGHT
TZOFFSETFROM:-0700
TZOFFSETTO:-0600
TZNAME:MDT
DTSTART:20230312T090000
END:DAYLIGHT
BEGIN:STANDARD
TZOFFSETFROM:-0600
TZOFFSETTO:-0700
TZNAME:MST
DTSTART:20231105T080000
END:STANDARD
BEGIN:DAYLIGHT
TZOFFSETFROM:-0700
TZOFFSETTO:-0600
TZNAME:MDT
DTSTART:20240310T090000
END:DAYLIGHT
BEGIN:STANDARD
TZOFFSETFROM:-0600
TZOFFSETTO:-0700
TZNAME:MST
DTSTART:20241103T080000
END:STANDARD
END:VTIMEZONE
BEGIN:VEVENT
DTSTART;TZID=America/Denver:20230429T100000
DTEND;TZID=America/Denver:20230429T150000
DTSTAMP:20260422T221001
CREATED:20230302T211056Z
LAST-MODIFIED:20230302T211056Z
UID:6431-1682762400-1682780400@www.champ-nm.com
SUMMARY:2023 Spring Tack Sale!
DESCRIPTION:Join C.H.A.M.P.\, The Village Mercantile\, and Albuquerque Area Trail Riders for our first tack sale of 2023! \nThe Merc will have vendors on site\, including Triple Crown Feeds and ChaffHaye to discuss your feed needs! \nMore info and table reservations to come!
URL:https://www.champ-nm.com/event/2023-spring-tack-sale/
LOCATION:Top Form Arena\, 500 Jones Road\, Corrales\, NM\, United States
END:VEVENT
END:VCALENDAR